BEGIN:VCALENDAR
VERSION:2.0
PRODID:-//Holt Methodist Church - ECPv6.15.20//NONSGML v1.0//EN
CALSCALE:GREGORIAN
METHOD:PUBLISH
X-ORIGINAL-URL:https://holt-methodist.org.uk
X-WR-CALDESC:Events for Holt Methodist Church
REFRESH-INTERVAL;VALUE=DURATION:PT1H
X-Robots-Tag:noindex
X-PUBLISHED-TTL:PT1H
BEGIN:VTIMEZONE
TZID:UTC
BEGIN:STANDARD
TZOFFSETFROM:+0000
TZOFFSETTO:+0000
TZNAME:UTC
DTSTART:20220101T000000
END:STANDARD
END:VTIMEZONE
BEGIN:VEVENT
DTSTART;TZID=UTC:20240509T190000
DTEND;TZID=UTC:20240509T200000
DTSTAMP:20260422T134320
CREATED:20240423T200820Z
LAST-MODIFIED:20240423T200820Z
UID:292-1715281200-1715284800@holt-methodist.org.uk
SUMMARY:Bible Study
DESCRIPTION:
URL:https://holt-methodist.org.uk/event/bible-study-2/
END:VEVENT
BEGIN:VEVENT
DTSTART;TZID=UTC:20240502T190000
DTEND;TZID=UTC:20240502T200000
DTSTAMP:20260422T134320
CREATED:20240423T200650Z
LAST-MODIFIED:20240423T200650Z
UID:290-1714676400-1714680000@holt-methodist.org.uk
SUMMARY:Bible Study
DESCRIPTION:
URL:https://holt-methodist.org.uk/event/bible-study/
END:VEVENT
BEGIN:VEVENT
DTSTART;TZID=UTC:20240427T100000
DTEND;TZID=UTC:20240427T160000
DTSTAMP:20260422T134320
CREATED:20240423T200316Z
LAST-MODIFIED:20240423T200316Z
UID:285-1714212000-1714233600@holt-methodist.org.uk
SUMMARY:Craft Fayre
DESCRIPTION:
URL:https://holt-methodist.org.uk/event/craft-fayre-5/
END:VEVENT
BEGIN:VEVENT
DTSTART;TZID=UTC:20240425T190000
DTEND;TZID=UTC:20240425T200000
DTSTAMP:20260422T134320
CREATED:20240423T200553Z
LAST-MODIFIED:20240423T200553Z
UID:288-1714071600-1714075200@holt-methodist.org.uk
SUMMARY:Bible study group
DESCRIPTION:
URL:https://holt-methodist.org.uk/event/bible-study-group/
END:VEVENT
BEGIN:VEVENT
DTSTART;TZID=UTC:20240419T140000
DTEND;TZID=UTC:20240419T160000
DTSTAMP:20260422T134320
CREATED:20240125T221227Z
LAST-MODIFIED:20240125T221227Z
UID:263-1713535200-1713542400@holt-methodist.org.uk
SUMMARY:Cream Teas
DESCRIPTION:
URL:https://holt-methodist.org.uk/event/cream-teas-9/
END:VEVENT
BEGIN:VEVENT
DTSTART;TZID=UTC:20240322T140000
DTEND;TZID=UTC:20240322T160000
DTSTAMP:20260422T134320
CREATED:20240125T220925Z
LAST-MODIFIED:20240125T220925Z
UID:260-1711116000-1711123200@holt-methodist.org.uk
SUMMARY:Cream Teas
DESCRIPTION:
URL:https://holt-methodist.org.uk/event/cream-teas-8/
END:VEVENT
BEGIN:VEVENT
DTSTART;TZID=UTC:20240301T110000
DTEND;TZID=UTC:20240301T120000
DTSTAMP:20260422T134320
CREATED:20240210T205830Z
LAST-MODIFIED:20240210T205830Z
UID:272-1709290800-1709294400@holt-methodist.org.uk
SUMMARY:World day of Prayer
DESCRIPTION:
URL:https://holt-methodist.org.uk/event/world-day-of-prayer/
END:VEVENT
BEGIN:VEVENT
DTSTART;TZID=UTC:20240229T103000
DTEND;TZID=UTC:20240229T120000
DTSTAMP:20260422T134320
CREATED:20240210T205609Z
LAST-MODIFIED:20240210T205609Z
UID:269-1709202600-1709208000@holt-methodist.org.uk
SUMMARY:Royal British Legion - Coffee morning
DESCRIPTION:Veteran’s and families coffee morning
URL:https://holt-methodist.org.uk/event/royal-british-legion-coffee-morning/
END:VEVENT
BEGIN:VEVENT
DTSTART;TZID=UTC:20240216T140000
DTEND;TZID=UTC:20240216T160000
DTSTAMP:20260422T134320
CREATED:20240125T220716Z
LAST-MODIFIED:20240125T220716Z
UID:257-1708092000-1708099200@holt-methodist.org.uk
SUMMARY:cream Teas
DESCRIPTION:
URL:https://holt-methodist.org.uk/event/cream-teas-7/
END:VEVENT
BEGIN:VEVENT
DTSTART;TZID=UTC:20240119T140000
DTEND;TZID=UTC:20240119T160000
DTSTAMP:20260422T134320
CREATED:20240113T204032Z
LAST-MODIFIED:20240113T204032Z
UID:251-1705672800-1705680000@holt-methodist.org.uk
SUMMARY:Cream Teas
DESCRIPTION:
URL:https://holt-methodist.org.uk/event/cream-teas-5/
END:VEVENT
BEGIN:VEVENT
DTSTART;TZID=UTC:20231223T160000
DTEND;TZID=UTC:20231223T170000
DTSTAMP:20260422T134320
CREATED:20231024T060400Z
LAST-MODIFIED:20231024T060454Z
UID:243-1703347200-1703350800@holt-methodist.org.uk
SUMMARY:Carol Services
DESCRIPTION:
URL:https://holt-methodist.org.uk/event/carol-services/
END:VEVENT
BEGIN:VEVENT
DTSTART;TZID=UTC:20231217T110000
DTEND;TZID=UTC:20231217T120000
DTSTAMP:20260422T134320
CREATED:20231024T060839Z
LAST-MODIFIED:20231024T060839Z
UID:246-1702810800-1702814400@holt-methodist.org.uk
SUMMARY:Carol Service
DESCRIPTION:
URL:https://holt-methodist.org.uk/event/carol-service/
END:VEVENT
BEGIN:VEVENT
DTSTART;TZID=UTC:20231215T130000
DTEND;TZID=UTC:20231215T160000
DTSTAMP:20260422T134320
CREATED:20231024T055624Z
LAST-MODIFIED:20231024T055624Z
UID:237-1702645200-1702656000@holt-methodist.org.uk
SUMMARY:Festive Cream Tea
DESCRIPTION:
URL:https://holt-methodist.org.uk/event/festive-cream-tea/
END:VEVENT
BEGIN:VEVENT
DTSTART;TZID=UTC:20231117T180000
DTEND;TZID=UTC:20231117T193000
DTSTAMP:20260422T134320
CREATED:20230916T201052Z
LAST-MODIFIED:20230916T201052Z
UID:227-1700244000-1700249400@holt-methodist.org.uk
SUMMARY:Holt Christmas Lights
DESCRIPTION:More info to follow;
URL:https://holt-methodist.org.uk/event/holt-christmas-lights/
END:VEVENT
BEGIN:VEVENT
DTSTART;TZID=UTC:20231117T173000
DTEND;TZID=UTC:20231117T193000
DTSTAMP:20260422T134320
CREATED:20231024T055945Z
LAST-MODIFIED:20231024T060056Z
UID:240-1700242200-1700249400@holt-methodist.org.uk
SUMMARY:Holt Festive Light up night
DESCRIPTION:
URL:https://holt-methodist.org.uk/event/holt-festive-light-up-night/
END:VEVENT
BEGIN:VEVENT
DTSTART;TZID=UTC:20231110T140000
DTEND;TZID=UTC:20231110T160000
DTSTAMP:20260422T134320
CREATED:20230916T200623Z
LAST-MODIFIED:20230916T200623Z
UID:225-1699624800-1699632000@holt-methodist.org.uk
SUMMARY:Cream Teas
DESCRIPTION:
URL:https://holt-methodist.org.uk/event/cream-teas-4/
END:VEVENT
BEGIN:VEVENT
DTSTART;TZID=UTC:20231020T020000
DTEND;TZID=UTC:20231020T160000
DTSTAMP:20260422T134320
CREATED:20230713T202504Z
LAST-MODIFIED:20230713T202504Z
UID:205-1697767200-1697817600@holt-methodist.org.uk
SUMMARY:Cream Teas
DESCRIPTION:
URL:https://holt-methodist.org.uk/event/cream-teas-3/
END:VEVENT
BEGIN:VEVENT
DTSTART;TZID=UTC:20231007T100000
DTEND;TZID=UTC:20231007T160000
DTSTAMP:20260422T134320
CREATED:20230916T200217Z
LAST-MODIFIED:20230916T200217Z
UID:223-1696672800-1696694400@holt-methodist.org.uk
SUMMARY:Craft Fayre
DESCRIPTION:
URL:https://holt-methodist.org.uk/event/craft-fayre-4/
END:VEVENT
BEGIN:VEVENT
DTSTART;TZID=UTC:20231001T110000
DTEND;TZID=UTC:20231001T120000
DTSTAMP:20260422T134320
CREATED:20230924T201113Z
LAST-MODIFIED:20230924T201113Z
UID:229-1696158000-1696161600@holt-methodist.org.uk
SUMMARY:Harvest Festival service
DESCRIPTION:
URL:https://holt-methodist.org.uk/event/harvest-festival-service/
END:VEVENT
BEGIN:VEVENT
DTSTART;TZID=UTC:20230908T140000
DTEND;TZID=UTC:20230908T160000
DTSTAMP:20260422T134320
CREATED:20230814T202256Z
LAST-MODIFIED:20230814T202256Z
UID:213-1694181600-1694188800@holt-methodist.org.uk
SUMMARY:Cream Teas
DESCRIPTION:
URL:https://holt-methodist.org.uk/event/cream-teas-2/
END:VEVENT
BEGIN:VEVENT
DTSTART;TZID=UTC:20230902T100000
DTEND;TZID=UTC:20230902T160000
DTSTAMP:20260422T134320
CREATED:20230814T202754Z
LAST-MODIFIED:20230814T203248Z
UID:216-1693648800-1693670400@holt-methodist.org.uk
SUMMARY:Craft Fayre - A variety of handmade items by local crafters.
DESCRIPTION:
URL:https://holt-methodist.org.uk/event/craft-fayre-3/
END:VEVENT
BEGIN:VEVENT
DTSTART;TZID=UTC:20230818T140000
DTEND;TZID=UTC:20230818T160000
DTSTAMP:20260422T134320
CREATED:20230709T145514Z
LAST-MODIFIED:20230709T145548Z
UID:193-1692367200-1692374400@holt-methodist.org.uk
SUMMARY:Cream Teas
DESCRIPTION:
URL:https://holt-methodist.org.uk/event/cream-teas/
END:VEVENT
BEGIN:VEVENT
DTSTART;TZID=UTC:20230813T110000
DTEND;TZID=UTC:20230813T120000
DTSTAMP:20260422T134320
CREATED:20230709T145735Z
LAST-MODIFIED:20230709T145735Z
UID:196-1691924400-1691928000@holt-methodist.org.uk
SUMMARY:Pet Service
DESCRIPTION:
URL:https://holt-methodist.org.uk/event/pet-service/
END:VEVENT
BEGIN:VEVENT
DTSTART;TZID=UTC:20230805T100000
DTEND;TZID=UTC:20230805T160000
DTSTAMP:20260422T134320
CREATED:20230708T103649Z
LAST-MODIFIED:20230708T103649Z
UID:178-1691229600-1691251200@holt-methodist.org.uk
SUMMARY:Craft Fayre
DESCRIPTION:VARIETY OF HANDMADE ITEMS BY LOCAL CRAFTERS \nREFRESHMENTS \nAVAILABLE \nCONTACT DETAILS \n01263 713398
URL:https://holt-methodist.org.uk/event/craft-fayre-2/
END:VEVENT
BEGIN:VEVENT
DTSTART;TZID=UTC:20230729T130000
DTEND;TZID=UTC:20230729T160000
DTSTAMP:20260422T134320
CREATED:20230614T171529Z
LAST-MODIFIED:20230614T171529Z
UID:172-1690635600-1690646400@holt-methodist.org.uk
SUMMARY:Summer Fayre
DESCRIPTION:
URL:https://holt-methodist.org.uk/event/summer-fayre/
END:VEVENT
BEGIN:VEVENT
DTSTART;TZID=UTC:20230725T103000
DTEND;TZID=UTC:20230725T123000
DTSTAMP:20260422T134320
CREATED:20230718T212508Z
LAST-MODIFIED:20230718T212609Z
UID:208-1690281000-1690288200@holt-methodist.org.uk
SUMMARY:Poppy Café
DESCRIPTION:
URL:https://holt-methodist.org.uk/event/poppy-cafe/
END:VEVENT
BEGIN:VEVENT
DTSTART;TZID=UTC:20230724T110000
DTEND;TZID=UTC:20230729T150000
DTSTAMP:20260422T134320
CREATED:20230709T145207Z
LAST-MODIFIED:20230709T193757Z
UID:190-1690196400-1690642800@holt-methodist.org.uk
SUMMARY:Quilts and Floral Displays - 11am to 3pm Daily
DESCRIPTION:
URL:https://holt-methodist.org.uk/event/quilts-floral-displays/
END:VEVENT
BEGIN:VEVENT
DTSTART;TZID=UTC:20230724T103000
DTEND;TZID=UTC:20230724T143000
DTSTAMP:20260422T134320
CREATED:20230718T213011Z
LAST-MODIFIED:20230718T213011Z
UID:211-1690194600-1690209000@holt-methodist.org.uk
SUMMARY:Poppy Café
DESCRIPTION:
URL:https://holt-methodist.org.uk/event/poppy-cafe-2/
END:VEVENT
BEGIN:VEVENT
DTSTART;TZID=UTC:20230721T140000
DTEND;TZID=UTC:20230721T160000
DTSTAMP:20260422T134320
CREATED:20230708T104613Z
LAST-MODIFIED:20230709T144535Z
UID:183-1689948000-1689955200@holt-methodist.org.uk
SUMMARY:Cream Teas\,
DESCRIPTION:
URL:https://holt-methodist.org.uk/event/cream-teas-quilts-flowers-display/
END:VEVENT
BEGIN:VEVENT
DTSTART;TZID=UTC:20230701T100000
DTEND;TZID=UTC:20230701T160000
DTSTAMP:20260422T134320
CREATED:20230628T172603Z
LAST-MODIFIED:20230628T172603Z
UID:176-1688205600-1688227200@holt-methodist.org.uk
SUMMARY:Craft Fayre
DESCRIPTION:A variety of handmade items by local crafters \nrefreshments available \nFor more info contact 01263 713398
URL:https://holt-methodist.org.uk/event/craft-fayre/
END:VEVENT
END:VCALENDAR